Workbook
Name _ftn1: 'q4'!$J$34
Name _ftnref1: Grafico1!$C$2

Sheet Q1
B4: Quadro 1. Distribuição percentual população por situação de emprego e sexo, segundo área de residência e província. Moçambique, INFOR 2004 e 2021
C6: Área de residência e Província | D6: Tipo de actividade
D7: INFOR 2004 | H7: INFOR 2021 | L7: INFOR 2021
D8: Informal (em %) | E8: Formal (em %) | F8: Desempregados (em %) | G8: Total Força de Trabalho (valores em milhares) | H8: Informal (em %) | I8: Formal (em %) | J8: Desempregados (em %) | K8: Total Forca de Trabalho (valores em milhares) | L8: Informal (em %) | M8: Formal (em %) | N8: Desempregados (em %) | O8: Total Força de Trabalho (valores em milhares)
C9: Moçambique | D9: 75.2 | E9: 7.9 | F9: 17 | G9: 10191.8 | H9: 13468100 | I9: 927617 | J9: 1674943 | K9: =+J9+I9+H9 -> 16070660 | L9: =+H9/$K9*100 -> 83.805519 | M9: =+I9/$K9*100 -> 5.7721151 | N9: =+J9/$K9*100 -> 10.422366 | O9: =+K9/1000 -> 16070.66
C10: Áre de redideência
C11: Urbano | D11: 50.4 | E11: 18.5 | F11: 31.1 | G11: 3289.7 | H11: 4657013 | I11: 641089 | J11: 1350977 | K11: =+J11+I11+H11 -> 6649079 | L11: =+H11/$K11*100 -> 70.039971 | M11: =+I11/$K11*100 -> 9.6417714 | N11: =+J11/$K11*100 -> 20.318258 | O11: =+K11/1000 -> 6649.079
C12: Rural | D12: 86.9 | E12: 2.8 | F12: 10.2 | G12: 6902.1 | H12: 8811087 | I12: 286528 | J12: 323966 | K12: =+J12+I12+H12 -> 9421581 | L12: =+H12/$K12*100 -> 93.520259 | M12: =+I12/$K12*100 -> 3.0411881 | N12: =+J12/$K12*100 -> 3.4385524 | O12: =+K12/1000 -> 9421.581
C13: Provincias
C14: Niassa | D14: 77.9 | E14: 4.1 | F14: 18 | G14: 505.5 | H14: 965200 | I14: 40048 | J14: 42275 | K14: =+J14+I14+H14 -> 1047523 | L14: =+H14/$K14*100 -> 92.141175 | M14: =+I14/$K14*100 -> 3.8231141 | N14: =+J14/$K14*100 -> 4.0357109 | O14: =+K14/1000 -> 1047.523
C15: Cabo Delgado | D15: 79.9 | E15: 4.3 | F15: 17.7 | G15: 911 | H15: 1066323 | I15: 81180 | J15: 173960 | K15: =+J15+I15+H15 -> 1321463 | L15: =+H15/$K15*100 -> 80.692611 | M15: =+I15/$K15*100 -> 6.1431913 | N15: =+J15/$K15*100 -> 13.164198 | O15: =+K15/1000 -> 1321.463
C16: Nampula | D16: 79.2 | E16: 4.2 | F16: 16.6 | G16: 1852.4 | H16: 2641770 | I16: 136197 | J16: 403974 | K16: =+J16+I16+H16 -> 3181941 | L16: =+H16/$K16*100 -> 83.023852 | M16: =+I16/$K16*100 -> 4.2803119 | N16: =+J16/$K16*100 -> 12.695836 | O16: =+K16/1000 -> 3181.941
C17: Zambézia | D17: 85.5 | E17: 4.7 | F17: 9.8 | G17: 1789 | H17: 2508159 | I17: 257501 | J17: 225313 | K17: =+J17+I17+H17 -> 2990973 | L17: =+H17/$K17*100 -> 83.857628 | M17: =+I17/$K17*100 -> 8.609272 | N17: =+J17/$K17*100 -> 7.5331004 | O17: =+K17/1000 -> 2990.973
C18: Tete | D18: 87.4 | E18: 4.5 | F18: 8.1 | G18: 850.8 | H18: 1341760 | I18: 71436 | J18: 134251 | K18: =+J18+I18+H18 -> 1547447 | L18: =+H18/$K18*100 -> 86.707978 | M18: =+I18/$K18*100 -> 4.6163778 | N18: =+J18/$K18*100 -> 8.6756445 | O18: =+K18/1000 -> 1547.447
C19: Manica | D19: 81.2 | E19: 5.5 | F19: 13.2 | G19: 763.4 | H19: 958478 | I19: 35976 | J19: 72875 | K19: =+J19+I19+H19 -> 1067329 | L19: =+H19/$K19*100 -> 89.801551 | M19: =+I19/$K19*100 -> 3.370657 | N19: =+J19/$K19*100 -> 6.8277916 | O19: =+K19/1000 -> 1067.329
C20: Sofala | D20: 65.2 | E20: 14.1 | F20: 20.7 | G20: 924.5 | H20: 1098438 | I20: 65848 | J20: 124816 | K20: =+J20+I20+H20 -> 1289102 | L20: =+H20/$K20*100 -> 85.209549 | M20: =+I20/$K20*100 -> 5.108052 | N20: =+J20/$K20*100 -> 9.6823991 | O20: =+K20/1000 -> 1289.102
C21: Inhambane | D21: 72.8 | E21: 6.1 | F21: 21.1 | G21: 826.2 | H21: 719269 | I21: 42588 | J21: 82272 | K21: =+J21+I21+H21 -> 844129 | L21: =+H21/$K21*100 -> 85.208422 | M21: =+I21/$K21*100 -> 5.0452004 | N21: =+J21/$K21*100 -> 9.7463776 | O21: =+K21/1000 -> 844.129
C22: Gaza | D22: 83.7 | E22: 4.2 | F22: 12.1 | G22: 686.6 | H22: 694636 | I22: 68971 | J22: 53206 | K22: =+J22+I22+H22 -> 816813 | L22: =+H22/$K22*100 -> 85.042231 | M22: =+I22/$K22*100 -> 8.4439156 | N22: =+J22/$K22*100 -> 6.5138532 | O22: =+K22/1000 -> 816.813
C23: Maputo | D23: 49.5 | E23: 20.8 | F23: 29.7 | G23: 539.2 | H23: 1052903 | I23: 64660 | J23: 180470 | K23: =+J23+I23+H23 -> 1298033 | L23: =+H23/$K23*100 -> 81.115272 | M23: =+I23/$K23*100 -> 4.9813834 | N23: =+J23/$K23*100 -> 13.903345 | O23: =+K23/1000 -> 1298.033
C24: Cidade de Maputo | D24: 27.4 | E24: 32.7 | F24: 39.9 | G24: 543.2 | H24: 430164 | I24: 63211 | J24: 181529 | K24: =+J24+I24+H24 -> 674904 | L24: =+H24/$K24*100 -> 63.737065 | M24: =+I24/$K24*100 -> 9.3659246 | N24: =+J24/$K24*100 -> 26.897011 | O24: =+K24/1000 -> 674.904

Sheet Sheet2
B16: Área de residência e Província | C16: Tipo de actividade
C17: INFOR 2021
C18: Agricultura, pecuária sivicultura e pescas | D18: Industria extrativa e Transformadora | E18: Construção | F18: Comércio | G18: Transporte e armazenagem | H18: Outros serviços
B19: Moçambique | C19: =74.8+0.8+1.7+0.2 -> 77.5 | D19: 2.1 | E19: 2.8 | F19: 7.4 | G19: 1.3 | H19: =8.6+0.3 -> 8.9
B20: Urbano | C20: =48.9+0.5+2.2 -> 51.6 | D20: 4 | E20: 5.7 | F20: 16.5 | G20: 3 | H20: =18.4+0.8 -> 19.2
B21: Rural | C21: =88.6+1+1.4 -> 91 | D21: 1.2 | E21: 1.2 | F21: 2.6 | G21: 0.4 | H21: 3.5
B22: Provincias
B23: Niassa | C23: 77.9 | D23: 18 | E23: 505.5
B24: Cabo Delgado | C24: 79.9 | D24: 17.7 | E24: 911
B25: Nampula | C25: 79.2 | D25: 16.6 | E25: 1852.4
B26: Zambézia | C26: 85.5 | D26: 9.8 | E26: 1789
B27: Tete | C27: 87.4 | D27: 8.1 | E27: 850.8
B28: Manica | C28: 81.2 | D28: 13.2 | E28: 763.4
B29: Sofala | C29: 65.2 | D29: 20.7 | E29: 924.5
B30: Inhambane | C30: 72.8 | D30: 21.1 | E30: 826.2
B31: Gaza | C31: 83.7 | D31: 12.1 | E31: 686.6
B32: Maputo | C32: 49.5 | D32: 29.7 | E32: 539.2
B33: Cidade de Maputo | C33: 27.4 | D33: 39.9 | E33: 543.2

Sheet Q2
B1: Quadro 2: Despesa Mensal peor capita (valores em Meticais). IOF 2019/20
B4: Área de Residência | C4: Por AF | D4: Per Capita
B5: Média Nacional | C5: 8.108 | D5: 1.695
B6: Urbana | C6: 12.587 | D6: 2.606
B7: Rural | C7: 5.741 | D7: 1.207
B8: Niassa | C8: 7766 | D8: 1588
B9: Cabo Delgado | C9: 5749 | D9: 1175
B10: Nampula | C10: 5238 | D10: 1124
B11: Zambézia | C11: 5380 | D11: 1132
B12: Tete | C12: 8933 | D12: 1927
B13: Manica | C13: 9673 | D13: 1792
B14: Sofala | C14: 9663 | D14: 1782
B15: Inhambane | C15: 7628 | D15: 1650
B16: Gaza | C16: 4977 | D16: 1008
... B18: Maputo Cidade | C18: 19664 | D18: 4567

Sheet Q3
B4: Divisões de Despesas | C4: Despesas per capita por áreas de residência IOF 2019/20
C5: Despesa per capita (em Meticais) | F5: Estrutura da despesa (%)
C7: Nacional | D7: Urbano | E7: Rural | F7: Nacional | G7: Urbano | H7: Rural
B8: Média Nacional | C8: 1695 | D8: 2606 | E8: 1207 | F8: 100 | G8: 100 | H8: 100
B9: Produtos Alimentares e Bebidas não alcoólicas | C9: 640 | D9: 721.3 | E9: 596 | F9: 37.7 | G9: 27.7 | H9: 49.4
B10: Bebidas Alcoólicas e Tabaco | C10: 5 | D10: 9.7 | E10: 2.7 | F10: 0.3 | G10: 0.4 | H10: 0.2
B11: Vestuário e Calçado | C11: 108 | D11: 151 | E11: 85 | F11: 6.4 | G11: 5.8 | H11: 7
B12: Habitação, água, electricidade, gás e outros combustíveis | C12: 419 | D12: 656.2 | E12: 292 | F12: 24.7 | G12: 25.2 | H12: 24.2
B13: Mobiliário, artigos de decoração, equipamento doméstico e manutenção corrente da habitação | C13: 99 | D13: 190.4 | E13: 50.6 | F13: 5.9 | G13: 7.3 | H13: 4.2
B14: Saúde | C14: 29 | D14: 64.2 | E14: 10.1 | F14: 1.7 | G14: 2.5 | H14: 0.8
B15: Transporte | C15: 162 | D15: 332 | E15: 70.6 | F15: 9.6 | G15: 12.7 | H15: 5.9
B16: Comunicações | C16: 81 | D16: 144.1 | E16: 46.7 | F16: 4.8 | G16: 5.5 | H16: 3.9
B17: Lazer, Recreação e Cultura | C17: 21 | D17: 44.9 | E17: 8.4 | F17: 1.2 | G17: 1.7 | H17: 0.7
B18: Educação | C18: 41 | D18: 97.1 | E18: 10.7 | F18: 2.4 | G18: 3.7 | H18: 0.9
B19: Restaurantes, Hoteis, Cafés e similares | C19: 44 | D19: 92.8 | E19: 17.1 | F19: 2.6 | G19: 3.6 | H19: 1.4
B20: Bens e Serviços e Diversos | C20: 46 | D20: 101.9 | E20: 16.6 | F20: 2.7 | G20: 3.9 | H20: 1.4
B22: Despesa média mensal por áreas de residência IOF 2019/20
C23: Despesa mensal do AF (em Meticais) | F23: Estrutura da despesa (em %)
B25: Divisões de Despesas | C25: Nacional | D25: Urbano | E25: Rural | F25: Nacional | G25: Urbano | H25: Rural
B26: Total das Despesas | C26: =+C8*('Q2'!$C$5/'Q2'!$D$5) -> 8108 | D26: =+D8*('Q2'!$C$6/'Q2'!$D$6) -> 12587 | E26: =+E8*('Q2'!$C$7/'Q2'!$D$7) -> 5741 | F26: 100 | G26: 100 | H26: 100
B27: Produtos Alimentares e Bebidas não alcoólicas | C27: =+C9*('Q2'!$C$5/'Q2'!$D$5) -> 3061.4277 | D27: =+D9*('Q2'!$C$6/'Q2'!$D$6) -> 3483.8845 | E27: =+E9*('Q2'!$C$7/'Q2'!$D$7) -> 2834.8268 | F27: 37.7 | G27: 27.7 | H27: 49.4
B28: Bebidas Alcoólicas e Tabaco | C28: =+C10*('Q2'!$C$5/'Q2'!$D$5) -> 23.917404 | D28: =+D10*('Q2'!$C$6/'Q2'!$D$6) -> 46.851074 | E28: =+E10*('Q2'!$C$7/'Q2'!$D$7) -> 12.842336 | F28: 0.3 | G28: 0.4 | H28: 0.2
B29: Vestuário e Calçado | C29: =+C11*('Q2'!$C$5/'Q2'!$D$5) -> 516.61593 | D29: =+D11*('Q2'!$C$6/'Q2'!$D$6) -> 729.33116 | E29: =+E11*('Q2'!$C$7/'Q2'!$D$7) -> 404.29577 | F29: 6.4 | G29: 5.8 | H29: 7
B30: Habitação, água, electricidade, gás e outros combustíveis | C30: =+C12*('Q2'!$C$5/'Q2'!$D$5) -> 2004.2785 | D30: =+D12*('Q2'!$C$6/'Q2'!$D$6) -> 3169.451 | E30: =+E12*('Q2'!$C$7/'Q2'!$D$7) -> 1388.8749 | F30: 24.7 | G30: 25.2 | H30: 24.2
B31: Mobiliário, artigos de decoração, equipamento doméstico e manutenção corrente da habitação | C31: =+C13*('Q2'!$C$5/'Q2'!$D$5) -> 473.5646 | D31: =+D13*('Q2'!$C$6/'Q2'!$D$6) -> 919.63346 | E31: =+E13*('Q2'!$C$7/'Q2'!$D$7) -> 240.6749 | F31: 5.9 | G31: 7.3 | H31: 4.2
B32: Saúde | C32: =+C14*('Q2'!$C$5/'Q2'!$D$5) -> 138.72094 | D32: =+D14*('Q2'!$C$6/'Q2'!$D$6) -> 310.08649 | E32: =+E14*('Q2'!$C$7/'Q2'!$D$7) -> 48.039851 | F32: 1.7 | G32: 2.5 | H32: 0.8
B33: Transporte | C33: =+C15*('Q2'!$C$5/'Q2'!$D$5) -> 774.92389 | D33: =+D15*('Q2'!$C$6/'Q2'!$D$6) -> 1603.5625 | E33: =+E15*('Q2'!$C$7/'Q2'!$D$7) -> 335.80331 | F33: 9.6 | G33: 12.7 | H33: 5.9
B34: Comunicações | C34: =+C16*('Q2'!$C$5/'Q2'!$D$5) -> 387.46195 | D34: =+D16*('Q2'!$C$6/'Q2'!$D$6) -> 696.00411 | E34: =+E16*('Q2'!$C$7/'Q2'!$D$7) -> 222.12486 | F34: 4.8 | G34: 5.5 | H34: 3.9
B35: Lazer, Recreação e Cultura | C35: =+C17*('Q2'!$C$5/'Q2'!$D$5) -> 100.4531 | D35: =+D17*('Q2'!$C$6/'Q2'!$D$6) -> 216.86734 | E35: =+E17*('Q2'!$C$7/'Q2'!$D$7) -> 39.953935 | F35: 1.2 | G35: 1.7 | H35: 0.7
B36: Educação | C36: =+C18*('Q2'!$C$5/'Q2'!$D$5) -> 196.12271 | D36: =+D18*('Q2'!$C$6/'Q2'!$D$6) -> 468.99375 | E36: =+E18*('Q2'!$C$7/'Q2'!$D$7) -> 50.893703 | F36: 2.4 | G36: 3.7 | H36: 0.9
B37: Restaurantes, Hoteis, Cafés e similares | C37: =+C19*('Q2'!$C$5/'Q2'!$D$5) -> 210.47316 | D37: =+D19*('Q2'!$C$6/'Q2'!$D$6) -> 448.22471 | E37: =+E19*('Q2'!$C$7/'Q2'!$D$7) -> 81.334797 | F37: 2.6 | G37: 3.6 | H37: 1.4
B38: Bens e Serviços e Diversos | C38: =+C20*('Q2'!$C$5/'Q2'!$D$5) -> 220.04012 | D38: =+D20*('Q2'!$C$6/'Q2'!$D$6) -> 492.17778 | E38: =+E20*('Q2'!$C$7/'Q2'!$D$7) -> 78.956587 | F38: 2.7 | G38: 3.9 | H38: 1.4
B39: Fonte: Relatório do IOF 2019/20 (INE 2021)
C42: =+C32*12 -> 1664.6513 | D42: =+D32*12 -> 3721.0379 | E42: =+E32*12 -> 576.47821
C43: =+C36*12 -> 2353.4726 | D43: =+D36*12 -> 5627.9249 | E43: =+E36*12 -> 610.72444
C44: =+C43+C42 -> 4018.1239 | D44: =+D43+D42 -> 9348.9629 | E44: =+E43+E42 -> 1187.2027
E46: =+D44/E44 -> 7.8747827

Sheet q4
B3: Projecções da populção | E3: 0.866 | F3: 0.838 | G3: 0.058 | H3: 0.104
B4: Ano | C4: População Total | D4: População de 15 anos e mais | E4: População Economicamente Activa (PEA) | F4: População Informal | G4: População formal | H4: População desempregada
B5: 2022 | C5: 31616078 | D5: 17404346 | E5: =+D5*$E$3 -> 15072164 | F5: =+E5*$F$3 -> 12630473 | G5: =+F5*$G$3 -> 732567.44 | H5: =+G5*$H$3 -> 76187.014
B6: 2023 | C6: 32419747 | D6: 18029815 | E6: =+D6*$E$3 -> 15613820 | F6: =+E6*$F$3 -> 13084381 | G6: =+F6*$G$3 -> 758894.1 | H6: =+G6*$H$3 -> 78924.986
B7: 2024 | C7: 33244414 | D7: 18684532 | E7: =+D7*$E$3 -> 16180805 | F7: =+E7*$F$3 -> 13559514 | G7: =+F7*$G$3 -> 786451.83 | H7: =+G7*$H$3 -> 81790.991
B8: 2025 | C8: 34090466 | D8: 19365190 | E8: =+D8*$E$3 -> 16770255 | F8: =+E8*$F$3 -> 14053473 | G8: =+F8*$G$3 -> 815101.45 | H8: =+G8*$H$3 -> 84770.551
B9: 2026 | C9: 34958973 | D9: 20076065 | E9: =+D9*$E$3 -> 17385872 | F9: =+E9*$F$3 -> 14569361 | G9: =+F9*$G$3 -> 845022.94 | H9: =+G9*$H$3 -> 87882.385
B10: 2027 | C10: 35851729 | D10: 20821373 | E10: =+D10*$E$3 -> 18031309 | F10: =+E10*$F$3 -> 15110237 | G10: =+F10*$G$3 -> 876393.74 | H10: =+G10*$H$3 -> 91144.949
B11: 2028 | C11: 36770788 | D11: 21595580 | E11: =+D11*$E$3 -> 18701772 | F11: =+E11*$F$3 -> 15672085 | G11: =+F11*$G$3 -> 908980.94 | H11: =+G11*$H$3 -> 94534.018
B12: 2029 | C12: 37717051 | D12: 22378284 | E12: =+D12*$E$3 -> 19379594 | F12: =+E12*$F$3 -> 16240100 | G12: =+F12*$G$3 -> 941925.78 | H12: =+G12*$H$3 -> 97960.282
B13: 2030 | C13: 38689102 | D13: 23127956 | E13: =+D13*$E$3 -> 20028810 | F13: =+E13*$F$3 -> 16784143 | G13: =+F13*$G$3 -> 973480.28 | H13: =+G13*$H$3 -> 101241.95
B14: 2031 | C14: 39682575 | D14: 23770901 | E14: =+D14*$E$3 -> 20585600 | F14: =+E14*$F$3 -> 17250733 | G14: =+F14*$G$3 -> 1000542.5 | H14: =+G14*$H$3 -> 104056.42
B15: 2032 | C15: 40687958 | D15: 24166365 | E15: =+D15*$E$3 -> 20928072 | F15: =+E15*$F$3 -> 17537724 | G15: =+F15*$G$3 -> 1017188 | H15: =+G15*$H$3 -> 105787.55
B16: 2033 | C16: 41705017 | D16: 24837936 | E16: =+D16*$E$3 -> 21509653 | F16: =+E16*$F$3 -> 18025089 | G16: =+F16*$G$3 -> 1045455.2 | H16: =+G16*$H$3 -> 108727.34
... B25: 2042 | C25: 51262186 | D25: 31589464 | E25: =+D25*$E$3 -> 27356476 | F25: =+E25*$F$3 -> 22924727 | G25: =+F25*$G$3 -> 1329634.2 | H25: =+G25*$H$3 -> 138281.95
J34: [1] As Projecções da Popualção são extraidas dos dados do IV RGPH (INE 2017). As projecções da PEA, da Populção formal e da População informal, foram baseadas no pressuposto de que as proproções em relação a população total mantem-se inalteradas durante os próximos 20 anos.

Sheet g1
B3: Experiencia de Risco (em %)
B4: Tipos de Risco | C4: FinsScope 2019
B5: Maior probabilidade de problemas de saúde | C5: 0.43 | E5: 100
B6: Morte de outros membros da família | C6: 0.36
B7: Perda de Culturas | C7: 0.36
B8: Morte ou perda do principal provedor de renda | C8: 0.3
B9: Desastres naturais | C9: 0.28
B10: Falência no negócio | C10: 0.15
B11: Roubo/Incendio/Destruição da casa ou de propriedades | C11: 0.13
B33: Principais Estratédias de enfrentaemnto | C33: FinsScope 2019
B34: Não fez nada | C34: 0.64
B35: Reduzir despesas | C35: 0.18
B36: Procurou assistencia | C36: 0.16
B37: Vendeu propriedades | C37: 0.15
B38: Emprestou Dinheiro | C38: 0.07
B39: Acionou o seguro | C39: 0.04
B58: Seguros no geral | C58: 2014 | D58: 2019
B59: Assegurado | C59: 0.08 | D59: 0.17
B60: Seguro Formal | C60: 0.05 | D60: 0.11
B61: Seguro Informal | C61: 0.03 | D61: 0.08
B62: Não assegurado | C62: 0.92 | D62: 0.83
C65: População com algum serviços de seguro (%) | F65: População sem acesso aos serviços de seguro (%)
B66: Seguros no geral | C66: Total | D66: Seguro Formal | E66: Seguro Informal
B67: 2014 | C67: 0.08 | D67: 0.05 | E67: 0.03 | F67: 0.92
B68: 2019 | C68: 0.17 | D68: 0.11 | E68: 0.06 | F68: 0.83
B93: Seguro Geral, por sexo e províncias | C93: FinScope 2019
C94: Formal | D94: Informal | E94: Não tem
B95: Moçambique | C95: 0.11 | D95: 0.06 | E95: 0.83
B96: Homem | C96: 0.13 | D96: 0.07 | E96: =1-(C96+D96) -> 0.8
B97: Mulher | C97: 0.09 | D97: 0.05 | E97: =1-(C97+D97) -> 0.86
B98: Provincias
B99: Niassa | C99: 0.08 | D99: 0.09 | E99: =1-(C99+D99) -> 0.83
B100: Cabo Delgado | C100: 0.13 | D100: 0.04 | E100: =1-(C100+D100) -> 0.83
B101: Nampula | C101: 0.13 | D101: 0.09 | E101: =1-(C101+D101) -> 0.78
B102: Zambézia | C102: 0.11 | D102: 0.08 | E102: =1-(C102+D102) -> 0.81
B103: Tete | C103: 0.07 | D103: 0.02 | E103: =1-(C103+D103) -> 0.91
B104: Manica | C104: 0.09 | D104: 0.03 | E104: =1-(C104+D104) -> 0.88
B105: Sofala | C105: 0.07 | D105: 0.04 | E105: =1-(C105+D105) -> 0.89
B106: Inhambane | C106: 0.1 | D106: 0.08 | E106: =1-(C106+D106) -> 0.82
B107: Gaza | C107: 0.08 | D107: 0.02 | E107: =1-(C107+D107) -> 0.9
...

Sheet g2
F13: 2014 | G13: 2019
E14: Poupança formal | F14: 0.08 | G14: 0.07
E15: Poupança informal | F15: 0.19 | G15: 0.22
E16: Guarda em casa | F16: 0.08 | G16: 0.16
E17: Não poupa | F17: 0.65 | G17: 0.55
V23: 8108
V24: =+V23*12 -> 97296
O29: Rural | P29: Urbano | Q29: Homem | R29: Mulher
N30: Poupança formal | O30: 0.04 | P30: 0.11 | Q30: 0.08 | R30: 0.05
N31: Poupança informal | O31: 0.19 | P31: 0.28 | Q31: 0.21 | R31: 0.23
N32: Guarda em casa | O32: 0.17 | P32: 0.13 | Q32: 0.18 | R32: 0.14
N33: Não poupa | O33: 0.6 | P33: 0.48 | Q33: 0.53 | R33: 0.58
Z43: 175967 | AC43: =31000000/1000 -> 31000
Z44: 667300000 | AC44: =+AC43/12 -> 2583.3333
Z45: =+Z44/Z43 -> 3792.1883

Sheet Grafico1
C2: Gráfico 1: Evolução da População laboral em Moçambique. 2022-2042[1]

Sheet Grafico 2
C2: Gráfico 2: Distribuição Percentual de População de 15 anos e mais com actividade informal por Ramo de actividade, Moçambique. INFOR 2021

Sheet Grafico3
B2: Gráfico 3: Distribuição dos trabalhadores Inscritos no Sistema de Segurança, por sexo. Moçambique, 2021

Sheet Grafico 4
A1: Gráfico 4: Distribuição percentual da População por acesso aos serviços de seguro.Moçambique, 2014 e 2019.

Sheet grafico 5
A1: Gráfico 5: Distribuição percentual da População por acesso aos serviços de seguro, por província e sexo. FinScope (2019).

Sheet grafico 6
A1: Gráfico 6: Distribuição das acções tomadas em caso de ocorrência de um evento indesejado. FinScope (2019)

Sheet grafico 7
A1: Gráfico 7: Estrutura do Acesso aos Serviços de Poupança para População adulta em Moçambique. FinScope 2014 e 2019

Sheet grafico 8
B1: Gráfico 8: Distribuição do acessoa os Serviços de Poupança para População adulta em Moçambique, segundo área de residência e sexo. FinScope 2014 e 2019
